BEGIN:VCALENDAR
VERSION:2.0
PRODID:-//Tukios.com/
BEGIN:VEVENT
UID:7adcaad7-5914-4aad-bee5-cec6cded8bc4@www.murrayorwosky.com
DTSTAMP:20260426T000546Z
DTSTART:20260429T190000Z
DTEND:20260429T200000Z
SUMMARY:Funeral Service
DESCRIPTION:
URL:https://www.murrayorwosky.com/obituaries/margarita-sanchez
LOCATION: 876 Wildcat Way  Sulphur Springs TX 75482
GEO:33.1113881;-95.6315432
END:VEVENT
END:VCALENDAR