BEGIN:VCALENDAR
VERSION:2.0
PRODID:-//Tukios.com/
BEGIN:VEVENT
UID:d2816166-fef2-4667-996d-2545438cee32@www.murrayorwosky.com
DTSTAMP:20260426T000655Z
DTSTART:20260428T230000Z
DTEND:20260429T010000Z
SUMMARY:Visitation
DESCRIPTION:
URL:https://www.murrayorwosky.com/obituaries/margarita-sanchez
LOCATION: 876 Wildcat Way  Sulphur Springs TX 75482
GEO:33.1113881;-95.6315432
END:VEVENT
END:VCALENDAR