BEGIN:VCALENDAR
VERSION:2.0
PRODID:-//Tukios.com/
BEGIN:VEVENT
UID:a4f24a98-4ee6-497b-beea-60584ca289e3@www.murrayorwosky.com
DTSTAMP:20260421T013225Z
DTSTART:20260423T200000Z
DTEND:20260423T210000Z
SUMMARY:Funeral Service
DESCRIPTION:
URL:https://www.murrayorwosky.com/obituaries/nelly-robinson
LOCATION: 876 Wildcat Way  Sulphur Springs TX 75482
GEO:33.1113881;-95.6315432
END:VEVENT
END:VCALENDAR