BEGIN:VCALENDAR
VERSION:2.0
PRODID:-//Tukios.com/
BEGIN:VEVENT
UID:184ae379-43ff-463b-ac34-dc2273b4584a@www.murrayorwosky.com
DTSTAMP:20260421T013906Z
DTSTART:20260423T211500Z
DTEND:20260423T221500Z
SUMMARY:Burial
DESCRIPTION:
URL:https://www.murrayorwosky.com/obituaries/nelly-robinson
LOCATION: CR 1168  Brashear TX 75420
GEO:33.0222229;-95.7277807
END:VEVENT
END:VCALENDAR