BEGIN:VCALENDAR
VERSION:2.0
PRODID:-//Tukios.com/
BEGIN:VEVENT
UID:d62eb06e-1dda-446e-b12b-18fd849190ef@www.murrayorwosky.com
DTSTAMP:20260423T165617Z
DTSTART:20260502T190000Z
DTEND:20260502T200000Z
SUMMARY:Memorial Service
DESCRIPTION:
URL:https://www.murrayorwosky.com/obituaries/nikii-whitehead
LOCATION: 876 Wildcat Way  Sulphur Springs TX 75482
GEO:33.1113881;-95.6315432
END:VEVENT
END:VCALENDAR