BEGIN:VCALENDAR
VERSION:2.0
PRODID:-//Tukios.com/
BEGIN:VEVENT
UID:fa35a93d-0bdc-45d1-988f-9cb48f11f351@www.murrayorwosky.com
DTSTAMP:20260425T040206Z
DTSTART:20260427T180000Z
DTEND:20260427T200000Z
SUMMARY:Visitation
DESCRIPTION:
URL:https://www.murrayorwosky.com/obituaries/willie-lamp
LOCATION:Murray-Orwosky Funeral Home 876 Wildcat Way  Sulphur Springs TX 
	75482
GEO:33.1113881;-95.6315432
END:VEVENT
END:VCALENDAR