BEGIN:VCALENDAR
VERSION:2.0
PRODID:-//Tukios.com/
BEGIN:VEVENT
UID:4bc45052-7225-49c6-a565-ab4a1ff1a875@www.murrayorwosky.com
DTSTAMP:20260425T035635Z
DTSTART:20260427T200000Z
DTEND:20260427T210000Z
SUMMARY:Funeral Service
DESCRIPTION:
URL:https://www.murrayorwosky.com/obituaries/willie-lamp
LOCATION:Murray-Orwosky Funeral Home 876 Wildcat Way  Sulphur Springs TX 
	75482
GEO:33.1113881;-95.6315432
END:VEVENT
END:VCALENDAR