BEGIN:VCALENDAR
VERSION:2.0
PRODID:-//Tukios.com/
BEGIN:VEVENT
UID:9326ca0d-f483-4f67-b871-30f5be01c112@www.murrayorwosky.com
DTSTAMP:20260425T040318Z
DTSTART:20260427T213000Z
DTEND:20260427T223000Z
SUMMARY:Interment
DESCRIPTION:
URL:https://www.murrayorwosky.com/obituaries/willie-lamp
LOCATION: 6491 TX-11  Sulphur Springs TX 75482
GEO:33.1599389;-95.679509
END:VEVENT
END:VCALENDAR